BEGIN:VCALENDAR
PRODID:-//github.com/rianjs/ical.net//NONSGML ical.net 4.0//EN
VERSION:2.0
BEGIN:VEVENT
DESCRIPTION:Siste skoledag før sommerferien
DTEND:20270618T000000
DTSTAMP:20260422T004608Z
DTSTART:20270618T000000
SEQUENCE:0
SUMMARY:Siste skoledag før sommerferien
UID:cd20141d-cad0-4309-a194-eafec432a953
END:VEVENT
END:VCALENDAR
