BEGIN:VCALENDAR
PRODID:-//github.com/rianjs/ical.net//NONSGML ical.net 4.0//EN
VERSION:2.0
BEGIN:VEVENT
DESCRIPTION:Grunnlovsdag/2. pinsedag
DTEND:20270517T000000
DTSTAMP:20260422T004429Z
DTSTART:20270517T000000
SEQUENCE:0
SUMMARY:Grunnlovsdag/2. pinsedag
UID:56c8cfa5-41f5-4530-9001-31182eaaf025
END:VEVENT
END:VCALENDAR
